BEGIN:VCALENDAR
VERSION:2.0
PRODID:-//Holybourne Village Association - ECPv5.2.0//NONSGML v1.0//EN
CALSCALE:GREGORIAN
METHOD:PUBLISH
X-WR-CALNAME:Holybourne Village Association
X-ORIGINAL-URL:https://holybourne.com
X-WR-CALDESC:Events for Holybourne Village Association
BEGIN:VTIMEZONE
TZID:UTC
BEGIN:STANDARD
TZOFFSETFROM:+0000
TZOFFSETTO:+0000
TZNAME:UTC
DTSTART:20200101T000000
END:STANDARD
END:VTIMEZONE
BEGIN:VEVENT
DTSTART;TZID=UTC:20201205T100000
DTEND;TZID=UTC:20201205T170000
DTSTAMP:20260420T073417
CREATED:20200819T173052Z
LAST-MODIFIED:20200819T173145Z
UID:8097-1607162400-1607187600@holybourne.com
SUMMARY:Treloar's Christmas Walk
DESCRIPTION:A fun 3 or 5 mile walk starting at the Treloar’s campus and strolling around the local countryside. \nChristmas hats optional and will be provided! \nArtisan coffee van and food stall refreshments available. \nDogs (and humans!) welcome.
URL:https://holybourne.com/event/treloars-christmas-walk/
LOCATION:Treloar’s\, London Road\, Holybourne\, Hampshire\, GU34 4GL
END:VEVENT
BEGIN:VEVENT
DTSTART;TZID=UTC:20201212T140000
DTEND;TZID=UTC:20201212T160000
DTSTAMP:20260420T073417
CREATED:20201210T093119Z
LAST-MODIFIED:20201210T093119Z
UID:8211-1607781600-1607788800@holybourne.com
SUMMARY:Mill Farm Experience Walking Nativity
DESCRIPTION:A couple of the Mill Cottage Farm Experience donkeys\, accompanied by some of the Nativity characters including Mary\, Joseph and the shepherds\, will tour the village between 2 pm and 4 pm. It’s hoped this will be an opportunity for children and adults alike to stand in the safety of their doorways and driveways and offer a wave and a cheer as the Nativity scene passes by. Along the way there will be an opportunity to make a donation to Bushy Leaze Children and Family Centre and the Women’s Refuge.
URL:https://holybourne.com/event/mill-farm-experience-walking-nativity/
ORGANIZER;CN="Holy%20Rood%20Church":MAILTO:gordonrandall@sky.com
END:VEVENT
BEGIN:VEVENT
DTSTART;TZID=UTC:20201216T180000
DTEND;TZID=UTC:20201216T190000
DTSTAMP:20260420T073417
CREATED:20201210T093301Z
LAST-MODIFIED:20201210T093301Z
UID:8213-1608141600-1608145200@holybourne.com
SUMMARY:Doorstep Carols
DESCRIPTION:This is an opportunity to encourage everyone in the village to tune into their local radio on 16th December from 6 pm to 7 pm. The idea is for people to stand on their doorsteps and sing along to the carols being broadcast. To find Radio Stations that you can tune into take a look at…https://www.doorstepcarols.co.uk/is-your-area-involved- \n \nA song sheet for the evening can be found at https://www.doorstepcarols.co.uk/Documents/Words-Nov-20_compressed.pdf
URL:https://holybourne.com/event/doorstep-carols/
END:VEVENT
BEGIN:VEVENT
DTSTART;TZID=UTC:20201217T193000
DTEND;TZID=UTC:20201217T220000
DTSTAMP:20260420T073417
CREATED:20200207T205344Z
LAST-MODIFIED:20210705T100128Z
UID:6554-1608233400-1608242400@holybourne.com
SUMMARY:Christmas Party with Holybourne Honeys
DESCRIPTION:Holybourne Honeys’ programme
URL:https://holybourne.com/event/christmas-party-with-holybourne-honeys/
LOCATION:Village Hall\, Holybourne\, GU34 4HD\, Church Lane\, Holybourne\, Hampshire\, GU34 1ND\, United Kingdom
END:VEVENT
END:VCALENDAR