BEGIN:VCALENDAR
VERSION:2.0
PRODID:-//Holybourne Village Association - ECPv5.2.0//NONSGML v1.0//EN
CALSCALE:GREGORIAN
METHOD:PUBLISH
X-WR-CALNAME:Holybourne Village Association
X-ORIGINAL-URL:https://holybourne.com
X-WR-CALDESC:Events for Holybourne Village Association
BEGIN:VTIMEZONE
TZID:UTC
BEGIN:STANDARD
TZOFFSETFROM:+0000
TZOFFSETTO:+0000
TZNAME:UTC
DTSTART:20210101T000000
END:STANDARD
END:VTIMEZONE
BEGIN:VEVENT
DTSTART;TZID=UTC:20210730T193000
DTEND;TZID=UTC:20210730T220000
DTSTAMP:20260419T172626
CREATED:20210510T122207Z
LAST-MODIFIED:20210510T122216Z
UID:8716-1627673400-1627682400@holybourne.com
SUMMARY:Murder Mystery
DESCRIPTION:An informal summer evening of music and drinks with a murder mystery thrown in.  Will you solve the case?  An evening for the whole family. \nTickets are available from https://www.holybournetheatre.co.uk/
URL:https://holybourne.com/event/murder-mystery/
LOCATION:Holybourne Theatre\, London Road\, Holybourne\, GU34 4EL
END:VEVENT
BEGIN:VEVENT
DTSTART;TZID=UTC:20210807T193000
DTEND;TZID=UTC:20210807T220000
DTSTAMP:20260419T172626
CREATED:20210510T122016Z
LAST-MODIFIED:20210510T122913Z
UID:8714-1628364600-1628373600@holybourne.com
SUMMARY:Jez Lowe
DESCRIPTION:A double nomination in the 2015 BBC Folk Awards – for best singer and best new song – was a timely reminder of Jez Lowe’s standing in the UK folk and acoustic music scene. Not only he is one of the busiest live performers in the country\, but his songs are among the most widely sung by other performers\, whether by long-established acts like Fairport Convention\, The Dubliners and Bob Fox\, or by the new breed of stars like The Unthanks\, The Young’uns and The Duhks. Jez will be promoting his new album ‘Crazy Pagan’. \nTickets are available from https://www.holybournetheatre.co.uk/
URL:https://holybourne.com/event/jez-lowe/
LOCATION:Holybourne Theatre\, London Road\, Holybourne\, GU34 4EL
END:VEVENT
BEGIN:VEVENT
DTSTART;TZID=UTC:20210904T120000
DTEND;TZID=UTC:20210904T230000
DTSTAMP:20260419T172626
CREATED:20210820T125629Z
LAST-MODIFIED:20210820T125629Z
UID:8848-1630756800-1630796400@holybourne.com
SUMMARY:Hart Fest
DESCRIPTION:HartFest is now booked in for September 4th. Join us for an afternoon and evening of live music\, great company and good times!
URL:https://holybourne.com/event/hart-fest/
LOCATION:White Hart\, London Road\, Holybourne
END:VEVENT
END:VCALENDAR